BEGIN:VCALENDAR
VERSION:2.0
PRODID:-//185.201.65.222//NONSGML kigkonsult.se iCalcreator 2.20//
CALSCALE:GREGORIAN
METHOD:PUBLISH
X-WR-TIMEZONE:Europe/Rome
BEGIN:VEVENT
UID:event84@ecovillaggi.it
DTSTAMP:20260424T195752Z
CATEGORIES:Eventi Ecovillaggi
DESCRIPTION:Tempo di Vivere - Koji e Miso a casa con I'm in Fermentation\nC
 ategoria: Eventi Ecovillaggi\nLink: https://ecovillaggi.it/index.php?optio
 n=com_jem&view=event&id=84:tempo-di-vivere-koji-miso-corso\n
DTSTART;TZID=Europe/Rome:20210904T093000
DTEND;TZID=Europe/Rome:20210905T173000
LOCATION:Ecovillaggio Tempo di Vivere\,Loc. Camera Vecchia di Calenzano\,29
 021 Bettola
SUMMARY:Tempo di Vivere - Koji e Miso a casa con I'm in Fermentation
URL:https://ecovillaggi.it/index.php?option=com_jem&view=event&id=84:tempo-
 di-vivere-koji-miso-corso
END:VEVENT
END:VCALENDAR