BEGIN:VCALENDAR
VERSION:2.0
PRODID:-//185.201.65.222//NONSGML kigkonsult.se iCalcreator 2.20//
CALSCALE:GREGORIAN
METHOD:PUBLISH
X-WR-TIMEZONE:Europe/Rome
BEGIN:VEVENT
UID:event82@ecovillaggi.it
DTSTAMP:20260424T195510Z
CATEGORIES:Eventi Ecovillaggi
DESCRIPTION:Tempo di Vivere - Openday\nCategoria: Eventi Ecovillaggi\nLink:
  https://ecovillaggi.it/index.php?option=com_jem&view=event&id=82:tempodiv
 ivere-openday\n
DTSTART;TZID=Europe/Rome:20210620T110000
DTEND;TZID=Europe/Rome:20210620T180000
LOCATION:Ecovillaggio Tempo di Vivere\,Loc. Camera Vecchia di Calenzano\,29
 021 Bettola
SUMMARY:Tempo di Vivere - Openday
URL:https://ecovillaggi.it/index.php?option=com_jem&view=event&id=82:tempod
 ivivere-openday
END:VEVENT
END:VCALENDAR