BEGIN:VCALENDAR
VERSION:2.0
PRODID:-//185.201.65.222//NONSGML kigkonsult.se iCalcreator 2.20//
CALSCALE:GREGORIAN
METHOD:PUBLISH
X-WR-TIMEZONE:Europe/Rome
BEGIN:VEVENT
UID:event80@ecovillaggi.it
DTSTAMP:20260424T195751Z
CATEGORIES:Eventi Ecovillaggi
DESCRIPTION:Tempo di Vivere - Alla scoperta dell'Ecovillaggio - Campo per r
 agazzi\nCategoria: Eventi Ecovillaggi\nLink: https://ecovillaggi.it/index.
 php?option=com_jem&view=event&id=80:campo-ragazzi-scoperta-ecovillaggio\n
DTSTART;TZID=Europe/Rome:20210711T150000
DTEND;TZID=Europe/Rome:20210717T120000
LOCATION:Ecovillaggio Tempo di Vivere\,Loc. Camera Vecchia di Calenzano\,29
 021 Bettola
SUMMARY:Tempo di Vivere - Alla scoperta dell'Ecovillaggio - Campo per ragaz
 zi
URL:https://ecovillaggi.it/index.php?option=com_jem&view=event&id=80:campo-
 ragazzi-scoperta-ecovillaggio
END:VEVENT
END:VCALENDAR