BEGIN:VCALENDAR
VERSION:2.0
PRODID:-//185.201.65.222//NONSGML kigkonsult.se iCalcreator 2.20//
CALSCALE:GREGORIAN
METHOD:PUBLISH
X-WR-TIMEZONE:Europe/Rome
BEGIN:VEVENT
UID:event76@ecovillaggi.it
DTSTAMP:20260424T195845Z
CATEGORIES:Eventi Ecovillaggi
DESCRIPTION:Tempo di Vivere - Corso online di autoproduzione di saponi e de
 tersivi liquidi\nCategoria: Eventi Ecovillaggi\nLink: https://ecovillaggi.
 it/index.php?option=com_jem&view=event&id=76:tempodivivere-faidate-saponi-
 liquidi\n
DTSTART;TZID=Europe/Rome:20210524T203000
DTEND;TZID=Europe/Rome:20210524T224500
LOCATION:Ecovillaggio Tempo di Vivere\,Loc. Camera Vecchia di Calenzano\,29
 021 Bettola
SUMMARY:Tempo di Vivere - Corso online di autoproduzione di saponi e deters
 ivi liquidi
URL:https://ecovillaggi.it/index.php?option=com_jem&view=event&id=76:tempod
 ivivere-faidate-saponi-liquidi
END:VEVENT
END:VCALENDAR