BEGIN:VCALENDAR
VERSION:2.0
PRODID:-//185.201.65.222//NONSGML kigkonsult.se iCalcreator 2.20//
CALSCALE:GREGORIAN
METHOD:PUBLISH
X-WR-TIMEZONE:Europe/Rome
BEGIN:VEVENT
UID:event70@ecovillaggi.it
DTSTAMP:20260424T195511Z
CATEGORIES:Eventi soci sostenitori
DESCRIPTION:Corso annuale di Facilitazione di processi di gruppo - Aprile –
  Novembre 2021\nCategoria: Eventi soci sostenitori\nLink: https://ecovilla
 ggi.it/index.php?option=com_jem&view=event&id=70:corso-facilitazione-proce
 ssi\n
DTSTART;TZID=Europe/Rome:20211002T091800
DTEND;TZID=Europe/Rome:20211003T091800
LOCATION:La Comune di Bagnaia\,di Bagnaia\, 37\,53018 Frazione Ancaiano di 
 Sovicille
SUMMARY:Corso annuale di Facilitazione di processi di gruppo - Aprile – Nov
 embre 2021
URL:https://ecovillaggi.it/index.php?option=com_jem&view=event&id=70:corso-
 facilitazione-processi
END:VEVENT
END:VCALENDAR