BEGIN:VCALENDAR
VERSION:2.0
PRODID:-//185.201.65.222//NONSGML kigkonsult.se iCalcreator 2.20//
CALSCALE:GREGORIAN
METHOD:PUBLISH
X-WR-TIMEZONE:Europe/Rome
BEGIN:VEVENT
UID:event57@ecovillaggi.it
DTSTAMP:20260424T184149Z
CATEGORIES:Eventi Ecovillaggi
DESCRIPTION:Comunità di Etica Vivente Online - Madri sulle montagne russe\n
 Categoria: Eventi Ecovillaggi\nLink: https://ecovillaggi.it/index.php?opti
 on=com_jem&view=event&id=57:comunita-di-etica-vivente-online-madri-sulle-m
 ontagne-russe\n
DTSTART;VALUE=DATE:20210307
DTEND;VALUE=DATE:20210308
SUMMARY:Comunità di Etica Vivente Online - Madri sulle montagne russe
URL:https://ecovillaggi.it/index.php?option=com_jem&view=event&id=57:comuni
 ta-di-etica-vivente-online-madri-sulle-montagne-russe
END:VEVENT
END:VCALENDAR