BEGIN:VCALENDAR
VERSION:2.0
PRODID:-//185.201.65.222//NONSGML kigkonsult.se iCalcreator 2.20//
CALSCALE:GREGORIAN
METHOD:PUBLISH
X-WR-TIMEZONE:Europe/Rome
BEGIN:VEVENT
UID:event462@ecovillaggi.it
DTSTAMP:20260425T222118Z
CATEGORIES:Eventi Ecovillaggi
DESCRIPTION:VIVERE LA TRIBÙ Summercamp 2026 - La via del Cerchio di Maniton
 quat\nCategoria: Eventi Ecovillaggi\nLink: https://ecovillaggi.it/index.ph
 p?option=com_jem&view=event&id=462:vivere-la-tribu-summercamp-2026-la-via-
 del-cerchio-di-manitonquat\n
DTSTART;TZID=Europe/Rome:20260803T163000
DTEND;TZID=Europe/Rome:20260812T113000
LOCATION:Ecovillaggio Tempo di Vivere\,Loc. Camera Vecchia di Calenzano\,29
 021 Bettola
SUMMARY:VIVERE LA TRIBÙ Summercamp 2026 - La via del Cerchio di Manitonquat
URL:https://ecovillaggi.it/index.php?option=com_jem&view=event&id=462:viver
 e-la-tribu-summercamp-2026-la-via-del-cerchio-di-manitonquat
END:VEVENT
END:VCALENDAR