BEGIN:VCALENDAR
VERSION:2.0
PRODID:-//185.201.65.222//NONSGML kigkonsult.se iCalcreator 2.20//
CALSCALE:GREGORIAN
METHOD:PUBLISH
X-WR-TIMEZONE:Europe/Rome
BEGIN:VEVENT
UID:event460@ecovillaggi.it
DTSTAMP:20260425T222123Z
CATEGORIES:Eventi Ecovillaggi
DESCRIPTION:Tempo di Vivere - Campo Estivo per ragazzi 10- 14 anni\nCategor
 ia: Eventi Ecovillaggi\nLink: https://ecovillaggi.it/index.php?option=com_
 jem&view=event&id=460:tempo-di-vivere-campo-estivo-per-ragazzi-10-14-anni
 \n
DTSTART;TZID=Europe/Rome:20260630T160000
DTEND;TZID=Europe/Rome:20260707T110000
LOCATION:Ecovillaggio Tempo di Vivere\,Loc. Camera Vecchia di Calenzano\,29
 021 Bettola
SUMMARY:Tempo di Vivere - Campo Estivo per ragazzi 10- 14 anni
URL:https://ecovillaggi.it/index.php?option=com_jem&view=event&id=460:tempo
 -di-vivere-campo-estivo-per-ragazzi-10-14-anni
END:VEVENT
END:VCALENDAR