BEGIN:VCALENDAR
VERSION:2.0
PRODID:-//185.201.65.222//NONSGML kigkonsult.se iCalcreator 2.20//
CALSCALE:GREGORIAN
METHOD:PUBLISH
X-WR-TIMEZONE:Europe/Rome
BEGIN:VEVENT
UID:event459@ecovillaggi.it
DTSTAMP:20260425T222235Z
CATEGORIES:Eventi Ecovillaggi
DESCRIPTION:Tempo di Vivere - Open day\nCategoria: Eventi Ecovillaggi\nLink
 : https://ecovillaggi.it/index.php?option=com_jem&view=event&id=459:tempo-
 di-vivere-open-day\n
DTSTART;TZID=Europe/Rome:20260614T103000
DTEND;TZID=Europe/Rome:20260614T180000
LOCATION:Ecovillaggio Tempo di Vivere\,Loc. Camera Vecchia di Calenzano\,29
 021 Bettola
SUMMARY:Tempo di Vivere - Open day
URL:https://ecovillaggi.it/index.php?option=com_jem&view=event&id=459:tempo
 -di-vivere-open-day
END:VEVENT
END:VCALENDAR