BEGIN:VCALENDAR
VERSION:2.0
PRODID:-//185.201.65.222//NONSGML kigkonsult.se iCalcreator 2.20//
CALSCALE:GREGORIAN
METHOD:PUBLISH
X-WR-TIMEZONE:Europe/Rome
BEGIN:VEVENT
UID:event458@ecovillaggi.it
DTSTAMP:20260425T222123Z
CATEGORIES:Eventi Ecovillaggi
DESCRIPTION:Ponte del 2 giugno in ecovillaggio: creatività\, natura\, gioco
  e leggerezza\nCategoria: Eventi Ecovillaggi\nLink: https://ecovillaggi.it
 /index.php?option=com_jem&view=event&id=458:ponte-del-2-giugno-in-ecovilla
 ggio-creativita-natura-gioco-e-leggerezza\n
DTSTART;TZID=Europe/Rome:20260530T103000
DTEND;TZID=Europe/Rome:20260602T180000
LOCATION:Ecovillaggio Tempo di Vivere\,Loc. Camera Vecchia di Calenzano\,29
 021 Bettola
SUMMARY:Ponte del 2 giugno in ecovillaggio: creatività\, natura\, gioco e l
 eggerezza
URL:https://ecovillaggi.it/index.php?option=com_jem&view=event&id=458:ponte
 -del-2-giugno-in-ecovillaggio-creativita-natura-gioco-e-leggerezza
END:VEVENT
END:VCALENDAR