BEGIN:VCALENDAR
VERSION:2.0
PRODID:-//185.201.65.222//NONSGML kigkonsult.se iCalcreator 2.20//
CALSCALE:GREGORIAN
METHOD:PUBLISH
X-WR-TIMEZONE:Europe/Rome
BEGIN:VEVENT
UID:event457@ecovillaggi.it
DTSTAMP:20260425T221554Z
CATEGORIES:Eventi Ecovillaggi
DESCRIPTION:Tempo di Vivere - Vita da capra: 3 giorni in ecovillaggio!\nCat
 egoria: Eventi Ecovillaggi\nLink: https://ecovillaggi.it/index.php?option=
 com_jem&view=event&id=457:tempo-di-vivere-vita-da-capra-3-giorni-in-ecovil
 laggio\n
DTSTART;TZID=Europe/Rome:20260501T103000
DTEND;TZID=Europe/Rome:20260503T180000
LOCATION:Ecovillaggio Tempo di Vivere\,Loc. Camera Vecchia di Calenzano\,29
 021 Bettola
SUMMARY:Tempo di Vivere - Vita da capra: 3 giorni in ecovillaggio!
URL:https://ecovillaggi.it/index.php?option=com_jem&view=event&id=457:tempo
 -di-vivere-vita-da-capra-3-giorni-in-ecovillaggio
END:VEVENT
END:VCALENDAR