BEGIN:VCALENDAR
VERSION:2.0
PRODID:-//185.201.65.222//NONSGML kigkonsult.se iCalcreator 2.20//
CALSCALE:GREGORIAN
METHOD:PUBLISH
X-WR-TIMEZONE:Europe/Rome
BEGIN:VEVENT
UID:event452@ecovillaggi.it
DTSTAMP:20260424T171417Z
CATEGORIES:Eventi Ecovillaggi
DESCRIPTION:Tempo di Vivere - Percorso online: Dal sintomo al segno - Decod
 ifica Psicosomatica Analogica Integrata liv.base\nCategoria: Eventi Ecovil
 laggi\nLink: https://ecovillaggi.it/index.php?option=com_jem&view=event&id
 =452:percorso-online-corpo-ascolto-dpai\n
DTSTART;TZID=Europe/Rome:20260319T200000
DTEND;TZID=Europe/Rome:20260319T223000
LOCATION:Ecovillaggio Tempo di Vivere\,Loc. Camera Vecchia di Calenzano\,29
 021 Bettola
SUMMARY:Tempo di Vivere - Percorso online: Dal sintomo al segno - Decodific
 a Psicosomatica Analogica Integrata liv.base
URL:https://ecovillaggi.it/index.php?option=com_jem&view=event&id=452:perco
 rso-online-corpo-ascolto-dpai
END:VEVENT
END:VCALENDAR