BEGIN:VCALENDAR
VERSION:2.0
PRODID:-//185.201.65.222//NONSGML kigkonsult.se iCalcreator 2.20//
CALSCALE:GREGORIAN
METHOD:PUBLISH
X-WR-TIMEZONE:Europe/Rome
BEGIN:VEVENT
UID:event447@ecovillaggi.it
DTSTAMP:20260424T171501Z
CATEGORIES:Eventi Ecovillaggi
DESCRIPTION:Tempo di Vivere - PLAYFIGHT – Archetipi ed emozioni\nCategoria:
  Eventi Ecovillaggi\nLink: https://ecovillaggi.it/index.php?option=com_jem
 &view=event&id=447:tempo-di-vivere-playfight---archetipi-ed-emozioni\n
DTSTART;TZID=Europe/Rome:20260307T100000
DTEND;TZID=Europe/Rome:20260308T173000
LOCATION:Ecovillaggio Tempo di Vivere\,Loc. Camera Vecchia di Calenzano\,29
 021 Bettola
SUMMARY:Tempo di Vivere - PLAYFIGHT – Archetipi ed emozioni
URL:https://ecovillaggi.it/index.php?option=com_jem&view=event&id=447:tempo
 -di-vivere-playfight---archetipi-ed-emozioni
END:VEVENT
END:VCALENDAR