BEGIN:VCALENDAR
VERSION:2.0
PRODID:-//185.201.65.222//NONSGML kigkonsult.se iCalcreator 2.20//
CALSCALE:GREGORIAN
METHOD:PUBLISH
X-WR-TIMEZONE:Europe/Rome
BEGIN:VEVENT
UID:event440@ecovillaggi.it
DTSTAMP:20260424T171502Z
CATEGORIES:Eventi Ecovillaggi
DESCRIPTION:Tempo di Vivere - Pasqua in ecovillaggio\nCategoria: Eventi Eco
 villaggi\nLink: https://ecovillaggi.it/index.php?option=com_jem&view=event
 &id=440:tempo-di-vivere-pasqua-in-ecovillaggio\n
DTSTART;TZID=Europe/Rome:20260403T100000
DTEND;TZID=Europe/Rome:20260407T110000
LOCATION:Ecovillaggio Tempo di Vivere\,Loc. Camera Vecchia di Calenzano\,29
 021 Bettola
SUMMARY:Tempo di Vivere - Pasqua in ecovillaggio
URL:https://ecovillaggi.it/index.php?option=com_jem&view=event&id=440:tempo
 -di-vivere-pasqua-in-ecovillaggio
END:VEVENT
END:VCALENDAR