BEGIN:VCALENDAR
VERSION:2.0
PRODID:-//185.201.65.222//NONSGML kigkonsult.se iCalcreator 2.20//
CALSCALE:GREGORIAN
METHOD:PUBLISH
X-WR-TIMEZONE:Europe/Rome
BEGIN:VEVENT
UID:event437@ecovillaggi.it
DTSTAMP:20260424T213557Z
CATEGORIES:Eventi Ecovillaggi
DESCRIPTION:Tempo di Vivere  - Vivere l’Ecovillaggio\nCategoria: Eventi Eco
 villaggi\nLink: https://ecovillaggi.it/index.php?option=com_jem&view=event
 &id=437:tempo-di-vivere-vivere-lecovillaggio\n
DTSTART;TZID=Europe/Rome:20251206T103000
DTEND;TZID=Europe/Rome:20251208T173000
LOCATION:Ecovillaggio Tempo di Vivere\,Loc. Camera Vecchia di Calenzano\,29
 021 Bettola
SUMMARY:Tempo di Vivere  - Vivere l’Ecovillaggio
URL:https://ecovillaggi.it/index.php?option=com_jem&view=event&id=437:tempo
 -di-vivere-vivere-lecovillaggio
END:VEVENT
END:VCALENDAR