BEGIN:VCALENDAR
VERSION:2.0
PRODID:-//185.201.65.222//NONSGML kigkonsult.se iCalcreator 2.20//
CALSCALE:GREGORIAN
METHOD:PUBLISH
X-WR-TIMEZONE:Europe/Rome
BEGIN:VEVENT
UID:event436@ecovillaggi.it
DTSTAMP:20260424T213305Z
CATEGORIES:Eventi Ecovillaggi
DESCRIPTION:OPEN WEEK END CENTRO RICERCA INTERIORE ALPE PIANELLO\nCategoria
 : Eventi Ecovillaggi\nLink: https://ecovillaggi.it/index.php?option=com_je
 m&view=event&id=436:open-week-end-centro-ricerca-interiore-alpe-pianello\n
DTSTART;VALUE=DATE:20251024
DTEND;VALUE=DATE:20251027
SUMMARY:OPEN WEEK END CENTRO RICERCA INTERIORE ALPE PIANELLO
URL:https://ecovillaggi.it/index.php?option=com_jem&view=event&id=436:open-
 week-end-centro-ricerca-interiore-alpe-pianello
END:VEVENT
END:VCALENDAR