BEGIN:VCALENDAR
VERSION:2.0
PRODID:-//185.201.65.222//NONSGML kigkonsult.se iCalcreator 2.20//
CALSCALE:GREGORIAN
METHOD:PUBLISH
X-WR-TIMEZONE:Europe/Rome
BEGIN:VEVENT
UID:event435@ecovillaggi.it
DTSTAMP:20260424T213505Z
CATEGORIES:Eventi Ecovillaggi
DESCRIPTION:Tempo di Vivere - Capodanno in ecovillaggio\nCategoria: Eventi 
 Ecovillaggi\nLink: https://ecovillaggi.it/index.php?option=com_jem&view=ev
 ent&id=435:tempo-di-vivere-capodanno-ecovillaggio\n
DTSTART;TZID=Europe/Rome:20251230T150000
DTEND;TZID=Europe/Rome:20260104T110000
LOCATION:Ecovillaggio Tempo di Vivere\,Loc. Camera Vecchia di Calenzano\,29
 021 Bettola
SUMMARY:Tempo di Vivere - Capodanno in ecovillaggio
URL:https://ecovillaggi.it/index.php?option=com_jem&view=event&id=435:tempo
 -di-vivere-capodanno-ecovillaggio
END:VEVENT
END:VCALENDAR