BEGIN:VCALENDAR
VERSION:2.0
PRODID:-//185.201.65.222//NONSGML kigkonsult.se iCalcreator 2.20//
CALSCALE:GREGORIAN
METHOD:PUBLISH
X-WR-TIMEZONE:Europe/Rome
BEGIN:VEVENT
UID:event430@ecovillaggi.it
DTSTAMP:20260424T213903Z
CATEGORIES:Eventi Ecovillaggi
DESCRIPTION:Tempo di Vivere - In cammino verso Sé: Presenza\, Intuizione\, 
 Ispirazione\nCategoria: Eventi Ecovillaggi\nLink: https://ecovillaggi.it/i
 ndex.php?option=com_jem&view=event&id=430:tempo-di-vivere-in-cammino-verso
 -se-presenza-intuizione-ispirazione\n
DTSTART;TZID=Europe/Rome:20251108T093000
DTEND;TZID=Europe/Rome:20251109T173000
LOCATION:Ecovillaggio Tempo di Vivere\,Loc. Camera Vecchia di Calenzano\,29
 021 Bettola
SUMMARY:Tempo di Vivere - In cammino verso Sé: Presenza\, Intuizione\, Ispi
 razione
URL:https://ecovillaggi.it/index.php?option=com_jem&view=event&id=430:tempo
 -di-vivere-in-cammino-verso-se-presenza-intuizione-ispirazione
END:VEVENT
END:VCALENDAR