BEGIN:VCALENDAR
VERSION:2.0
PRODID:-//185.201.65.222//NONSGML kigkonsult.se iCalcreator 2.20//
CALSCALE:GREGORIAN
METHOD:PUBLISH
X-WR-TIMEZONE:Europe/Rome
BEGIN:VEVENT
UID:event425@ecovillaggi.it
DTSTAMP:20260424T213638Z
CATEGORIES:Eventi Ecovillaggi
DESCRIPTION:Tempo di Vivere: PLAYFIGHT - La lotta-gioco che connette!\nCate
 goria: Eventi Ecovillaggi\nLink: https://ecovillaggi.it/index.php?option=c
 om_jem&view=event&id=425:playfight-lotta-gioco-connette-connessione-tempo-
 di-vivere\n
DTSTART;TZID=Europe/Rome:20251112T203000
DTEND;TZID=Europe/Rome:20251112T231500
SUMMARY:Tempo di Vivere: PLAYFIGHT - La lotta-gioco che connette!
URL:https://ecovillaggi.it/index.php?option=com_jem&view=event&id=425:playf
 ight-lotta-gioco-connette-connessione-tempo-di-vivere
END:VEVENT
END:VCALENDAR