BEGIN:VCALENDAR
VERSION:2.0
PRODID:-//185.201.65.222//NONSGML kigkonsult.se iCalcreator 2.20//
CALSCALE:GREGORIAN
METHOD:PUBLISH
X-WR-TIMEZONE:Europe/Rome
BEGIN:VEVENT
UID:event421@ecovillaggi.it
DTSTAMP:20260424T231507Z
CATEGORIES:Eventi Ecovillaggi
DESCRIPTION:Tempo di Vivere e Il Giardino degli Alberi Maestri - Open day 2
 7 luglio 2025\nCategoria: Eventi Ecovillaggi\nLink: https://ecovillaggi.it
 /index.php?option=com_jem&view=event&id=421:open-day-tempo-vivere-giardino
 -alberi-maestri\n
DTSTART;TZID=Europe/Rome:20250727T100000
DTEND;TZID=Europe/Rome:20250727T180000
SUMMARY:Tempo di Vivere e Il Giardino degli Alberi Maestri - Open day 27 lu
 glio 2025
URL:https://ecovillaggi.it/index.php?option=com_jem&view=event&id=421:open-
 day-tempo-vivere-giardino-alberi-maestri
END:VEVENT
END:VCALENDAR