BEGIN:VCALENDAR
VERSION:2.0
PRODID:-//185.201.65.222//NONSGML kigkonsult.se iCalcreator 2.20//
CALSCALE:GREGORIAN
METHOD:PUBLISH
X-WR-TIMEZONE:Europe/Rome
BEGIN:VEVENT
UID:event414@ecovillaggi.it
DTSTAMP:20260424T231054Z
CATEGORIES:RIVE
DESCRIPTION:In Cammino verso il Raduno Estivo RIVE\nCategoria: RIVE\nLink: 
 https://ecovillaggi.it/index.php?option=com_jem&view=event&id=414:in-cammi
 no-verso-il-raduno-estivo-rive\n
DTSTART;TZID=Europe/Rome:20250719T103000
DTEND;TZID=Europe/Rome:20250730T180000
LOCATION:Damanhur\,Via Baldissero 21\,10080 Vidracco
SUMMARY:In Cammino verso il Raduno Estivo RIVE
URL:https://ecovillaggi.it/index.php?option=com_jem&view=event&id=414:in-ca
 mmino-verso-il-raduno-estivo-rive
END:VEVENT
END:VCALENDAR