BEGIN:VCALENDAR
VERSION:2.0
PRODID:-//185.201.65.222//NONSGML kigkonsult.se iCalcreator 2.20//
CALSCALE:GREGORIAN
METHOD:PUBLISH
X-WR-TIMEZONE:Europe/Rome
BEGIN:VEVENT
UID:event413@ecovillaggi.it
DTSTAMP:20260424T231054Z
CATEGORIES:Eventi Ecovillaggi
DESCRIPTION:🧘‍♂️ 10-Day Silent Meditation Retreat @ Alpe Pianello 🇮🇹🌄\nCate
 goria: Eventi Ecovillaggi\nLink: https://ecovillaggi.it/index.php?option=c
 om_jem&view=event&id=413:10-day-silent-meditation-retreat-alpe-pianello\n
DTSTART;TZID=Europe/Rome:20250702T100000
DTEND;TZID=Europe/Rome:20250712T150000
SUMMARY:🧘‍♂️ 10-Day Silent Meditation Retreat @ Alpe Pianello 🇮🇹🌄
URL:https://ecovillaggi.it/index.php?option=com_jem&view=event&id=413:10-da
 y-silent-meditation-retreat-alpe-pianello
END:VEVENT
END:VCALENDAR