BEGIN:VCALENDAR
VERSION:2.0
PRODID:-//185.201.65.222//NONSGML kigkonsult.se iCalcreator 2.20//
CALSCALE:GREGORIAN
METHOD:PUBLISH
X-WR-TIMEZONE:Europe/Rome
BEGIN:VEVENT
UID:event412@ecovillaggi.it
DTSTAMP:20260424T231238Z
CATEGORIES:Eventi Ecovillaggi
DESCRIPTION:👣ALPE PIANELLO - Campo di Movimento\; Corpo\, Mente & Connessio
 ne)\nCategoria: Eventi Ecovillaggi\nLink: https://ecovillaggi.it/index.php
 ?option=com_jem&view=event&id=412:alpe-pianello-campo-di-movimento-corpo-m
 ente-connessione\n
DTSTART;TZID=Europe/Rome:20250614T100000
DTEND;TZID=Europe/Rome:20250622T180000
SUMMARY:👣ALPE PIANELLO - Campo di Movimento\; Corpo\, Mente & Connessione)
URL:https://ecovillaggi.it/index.php?option=com_jem&view=event&id=412:alpe-
 pianello-campo-di-movimento-corpo-mente-connessione
END:VEVENT
END:VCALENDAR