BEGIN:VCALENDAR
VERSION:2.0
PRODID:-//185.201.65.222//NONSGML kigkonsult.se iCalcreator 2.20//
CALSCALE:GREGORIAN
METHOD:PUBLISH
X-WR-TIMEZONE:Europe/Rome
BEGIN:VEVENT
UID:event411@ecovillaggi.it
DTSTAMP:20260424T231319Z
CATEGORIES:Eventi Ecovillaggi
DESCRIPTION:ALPE PIANELLO - RITIRO – ALBERI MAESTRI (IL FAGGIO) – 19-20 Lug
 lio\nCategoria: Eventi Ecovillaggi\nLink: https://ecovillaggi.it/index.php
 ?option=com_jem&view=event&id=411:alpe-pianello-ritiro---alberi-maestri-il
 -faggio---19-20-luglio\n
DTSTART;TZID=Europe/Rome:20250719T093000
DTEND;TZID=Europe/Rome:20250720T170000
SUMMARY:ALPE PIANELLO - RITIRO – ALBERI MAESTRI (IL FAGGIO) – 19-20 Luglio
URL:https://ecovillaggi.it/index.php?option=com_jem&view=event&id=411:alpe-
 pianello-ritiro---alberi-maestri-il-faggio---19-20-luglio
END:VEVENT
END:VCALENDAR