BEGIN:VCALENDAR
VERSION:2.0
PRODID:-//185.201.65.222//NONSGML kigkonsult.se iCalcreator 2.20//
CALSCALE:GREGORIAN
METHOD:PUBLISH
X-WR-TIMEZONE:Europe/Rome
BEGIN:VEVENT
UID:event409@ecovillaggi.it
DTSTAMP:20260424T231124Z
CATEGORIES:Eventi Ecovillaggi
DESCRIPTION:Tempo di Vivere e L'Albero della Vita: TRA LA TERRA E IL CIELO:
  dove lo Spirito incontra la materia\nCategoria: Eventi Ecovillaggi\nLink:
  https://ecovillaggi.it/index.php?option=com_jem&view=event&id=409:terra-c
 ielo-spirito-materia\n
DTSTART;TZID=Europe/Rome:20250628T100000
DTEND;TZID=Europe/Rome:20250629T180000
LOCATION:Ecovillaggio Tempo di Vivere\,Loc. Camera Vecchia di Calenzano\,29
 021 Bettola
SUMMARY:Tempo di Vivere e L'Albero della Vita: TRA LA TERRA E IL CIELO: dov
 e lo Spirito incontra la materia
URL:https://ecovillaggi.it/index.php?option=com_jem&view=event&id=409:terra
 -cielo-spirito-materia
END:VEVENT
END:VCALENDAR