BEGIN:VCALENDAR
VERSION:2.0
PRODID:-//185.201.65.222//NONSGML kigkonsult.se iCalcreator 2.20//
CALSCALE:GREGORIAN
METHOD:PUBLISH
X-WR-TIMEZONE:Europe/Rome
BEGIN:VEVENT
UID:event408@ecovillaggi.it
DTSTAMP:20260424T230957Z
CATEGORIES:Eventi Ecovillaggi
DESCRIPTION:Tempo di Vivere: Una giornata di Playfight\nCategoria: Eventi E
 covillaggi\nLink: https://ecovillaggi.it/index.php?option=com_jem&view=eve
 nt&id=408:playfight-lotta-gioco-connessione-cerchio\n
DTSTART;TZID=Europe/Rome:20250608T093000
DTEND;TZID=Europe/Rome:20250608T193000
SUMMARY:Tempo di Vivere: Una giornata di Playfight
URL:https://ecovillaggi.it/index.php?option=com_jem&view=event&id=408:playf
 ight-lotta-gioco-connessione-cerchio
END:VEVENT
END:VCALENDAR