BEGIN:VCALENDAR
VERSION:2.0
PRODID:-//185.201.65.222//NONSGML kigkonsult.se iCalcreator 2.20//
CALSCALE:GREGORIAN
METHOD:PUBLISH
X-WR-TIMEZONE:Europe/Rome
BEGIN:VEVENT
UID:event407@ecovillaggi.it
DTSTAMP:20260424T231130Z
CATEGORIES:Eventi Ecovillaggi
DESCRIPTION:Tempo di Vivere: PLAYFIGHT  La lotta-gioco che connette!\nCateg
 oria: Eventi Ecovillaggi\nLink: https://ecovillaggi.it/index.php?option=co
 m_jem&view=event&id=407:playfight-lotta-gioco-connessione-tempo-di-vivere
 \n
DTSTART;TZID=Europe/Rome:20250603T203000
DTEND;TZID=Europe/Rome:20250603T231500
SUMMARY:Tempo di Vivere: PLAYFIGHT  La lotta-gioco che connette!
URL:https://ecovillaggi.it/index.php?option=com_jem&view=event&id=407:playf
 ight-lotta-gioco-connessione-tempo-di-vivere
END:VEVENT
END:VCALENDAR