BEGIN:VCALENDAR
VERSION:2.0
PRODID:-//185.201.65.222//NONSGML kigkonsult.se iCalcreator 2.20//
CALSCALE:GREGORIAN
METHOD:PUBLISH
X-WR-TIMEZONE:Europe/Rome
BEGIN:VEVENT
UID:event406@ecovillaggi.it
DTSTAMP:20260424T230757Z
CATEGORIES:Eventi Ecovillaggi
DESCRIPTION:Tempo di Vivere e L'Albero della Vita - III MODULO PERCORSO - I
 l corpo\, una porta di accesso alla consapevolezza interiore\nCategoria: E
 venti Ecovillaggi\nLink: https://ecovillaggi.it/index.php?option=com_jem&v
 iew=event&id=406:tdv-adv-corpo-consapevolezza-interiore\n
DTSTART;TZID=Europe/Rome:20250531T100000
DTEND;TZID=Europe/Rome:20250601T173000
LOCATION:Ecovillaggio Tempo di Vivere\,Loc. Camera Vecchia di Calenzano\,29
 021 Bettola
SUMMARY:Tempo di Vivere e L'Albero della Vita - III MODULO PERCORSO - Il co
 rpo\, una porta di accesso alla consapevolezza interiore
URL:https://ecovillaggi.it/index.php?option=com_jem&view=event&id=406:tdv-a
 dv-corpo-consapevolezza-interiore
END:VEVENT
END:VCALENDAR