BEGIN:VCALENDAR
VERSION:2.0
PRODID:-//185.201.65.222//NONSGML kigkonsult.se iCalcreator 2.20//
CALSCALE:GREGORIAN
METHOD:PUBLISH
X-WR-TIMEZONE:Europe/Rome
BEGIN:VEVENT
UID:event402@ecovillaggi.it
DTSTAMP:20260424T230900Z
CATEGORIES:Eventi Ecovillaggi
DESCRIPTION:Tempo di Vivere e L'Albero della Vita - 4 passi sul Sentiero de
 ll'Anima\nCategoria: Eventi Ecovillaggi\nLink: https://ecovillaggi.it/inde
 x.php?option=com_jem&view=event&id=402:tdv-adv-4-passi-sentiero-anima\n
DTSTART;TZID=Europe/Rome:20250515T200000
DTEND;TZID=Europe/Rome:20250515T220000
SUMMARY:Tempo di Vivere e L'Albero della Vita - 4 passi sul Sentiero dell'A
 nima
URL:https://ecovillaggi.it/index.php?option=com_jem&view=event&id=402:tdv-a
 dv-4-passi-sentiero-anima
END:VEVENT
END:VCALENDAR