BEGIN:VCALENDAR
VERSION:2.0
PRODID:-//185.201.65.222//NONSGML kigkonsult.se iCalcreator 2.20//
CALSCALE:GREGORIAN
METHOD:PUBLISH
X-WR-TIMEZONE:Europe/Rome
BEGIN:VEVENT
UID:event401@ecovillaggi.it
DTSTAMP:20260424T231233Z
CATEGORIES:Eventi Ecovillaggi
DESCRIPTION:Tempo di Vivere - Open Day 6 Luglio\nCategoria: Eventi Ecovilla
 ggi\nLink: https://ecovillaggi.it/index.php?option=com_jem&view=event&id=4
 01:tempo-di-vivere-comunita-ecovillaggi-luglio\n
DTSTART;TZID=Europe/Rome:20250706T103000
DTEND;TZID=Europe/Rome:20250706T180000
LOCATION:Ecovillaggio Tempo di Vivere\,Loc. Camera Vecchia di Calenzano\,29
 021 Bettola
SUMMARY:Tempo di Vivere - Open Day 6 Luglio
URL:https://ecovillaggi.it/index.php?option=com_jem&view=event&id=401:tempo
 -di-vivere-comunita-ecovillaggi-luglio
END:VEVENT
END:VCALENDAR