BEGIN:VCALENDAR
VERSION:2.0
PRODID:-//185.201.65.222//NONSGML kigkonsult.se iCalcreator 2.20//
CALSCALE:GREGORIAN
METHOD:PUBLISH
X-WR-TIMEZONE:Europe/Rome
BEGIN:VEVENT
UID:event400@ecovillaggi.it
DTSTAMP:20260424T231232Z
CATEGORIES:Eventi Ecovillaggi
DESCRIPTION:Tempo di Vivere: Una giornata immersi nella natura: alla scoper
 ta delle erbe spontanee e della musica con le piante\nCategoria: Eventi Ec
 ovillaggi\nLink: https://ecovillaggi.it/index.php?option=com_jem&view=even
 t&id=400:natura-scoperta-piante-erbe-spontanee-musica\n
DTSTART;TZID=Europe/Rome:20250705T113000
DTEND;TZID=Europe/Rome:20250705T230000
LOCATION:Ecovillaggio Tempo di Vivere\,Loc. Camera Vecchia di Calenzano\,29
 021 Bettola
SUMMARY:Tempo di Vivere: Una giornata immersi nella natura: alla scoperta d
 elle erbe spontanee e della musica con le piante
URL:https://ecovillaggi.it/index.php?option=com_jem&view=event&id=400:natur
 a-scoperta-piante-erbe-spontanee-musica
END:VEVENT
END:VCALENDAR