BEGIN:VCALENDAR
VERSION:2.0
PRODID:-//185.201.65.222//NONSGML kigkonsult.se iCalcreator 2.20//
CALSCALE:GREGORIAN
METHOD:PUBLISH
X-WR-TIMEZONE:Europe/Rome
BEGIN:VEVENT
UID:event399@ecovillaggi.it
DTSTAMP:20260424T231426Z
CATEGORIES:Eventi Ecovillaggi
DESCRIPTION:Tempo di Vivere - 'Tra natura e creatività: scopri l’ecovillagg
 io e le autoproduzioni'\nCategoria: Eventi Ecovillaggi\nLink: https://ecov
 illaggi.it/index.php?option=com_jem&view=event&id=399:tempo-vivere-natura-
 creativita-autoproduzione-ecovillaggio-openday\n
DTSTART;TZID=Europe/Rome:20250614T100000
DTEND;TZID=Europe/Rome:20250615T180000
LOCATION:Ecovillaggio Tempo di Vivere\,Loc. Camera Vecchia di Calenzano\,29
 021 Bettola
SUMMARY:Tempo di Vivere - 'Tra natura e creatività: scopri l’ecovillaggio e
  le autoproduzioni'
URL:https://ecovillaggi.it/index.php?option=com_jem&view=event&id=399:tempo
 -vivere-natura-creativita-autoproduzione-ecovillaggio-openday
END:VEVENT
END:VCALENDAR