BEGIN:VCALENDAR
VERSION:2.0
PRODID:-//185.201.65.222//NONSGML kigkonsult.se iCalcreator 2.20//
CALSCALE:GREGORIAN
METHOD:PUBLISH
X-WR-TIMEZONE:Europe/Rome
BEGIN:VEVENT
UID:event398@ecovillaggi.it
DTSTAMP:20260424T231325Z
CATEGORIES:Eventi Ecovillaggi
DESCRIPTION:Tempo di Vivere: In viaggio verso me - L’avventura di diventare
  grandi\nCategoria: Eventi Ecovillaggi\nLink: https://ecovillaggi.it/index
 .php?option=com_jem&view=event&id=398:ragazzi-esperienza-comunita-viaggio-
 interiore-avventura-diventare-grandi\n
DTSTART;TZID=Europe/Rome:20250607T100000
DTEND;TZID=Europe/Rome:20250608T180000
LOCATION:Ecovillaggio Tempo di Vivere\,Loc. Camera Vecchia di Calenzano\,29
 021 Bettola
SUMMARY:Tempo di Vivere: In viaggio verso me - L’avventura di diventare gra
 ndi
URL:https://ecovillaggi.it/index.php?option=com_jem&view=event&id=398:ragaz
 zi-esperienza-comunita-viaggio-interiore-avventura-diventare-grandi
END:VEVENT
END:VCALENDAR