BEGIN:VCALENDAR
VERSION:2.0
PRODID:-//185.201.65.222//NONSGML kigkonsult.se iCalcreator 2.20//
CALSCALE:GREGORIAN
METHOD:PUBLISH
X-WR-TIMEZONE:Europe/Rome
BEGIN:VEVENT
UID:event397@ecovillaggi.it
DTSTAMP:20260424T213639Z
CATEGORIES:Eventi Ecovillaggi
DESCRIPTION:Tempo di Vivere e L'Albero della Vita: WEBINAR GRATUITO LA PAUR
 A DEL CAMBIAMENTO\nCategoria: Eventi Ecovillaggi\nLink: https://ecovillagg
 i.it/index.php?option=com_jem&view=event&id=397:webinar-gratuito-paura-cam
 biamento-vita\n
DTSTART;TZID=Europe/Rome:20250423T200000
DTEND;TZID=Europe/Rome:20250423T220000
SUMMARY:Tempo di Vivere e L'Albero della Vita: WEBINAR GRATUITO LA PAURA DE
 L CAMBIAMENTO
URL:https://ecovillaggi.it/index.php?option=com_jem&view=event&id=397:webin
 ar-gratuito-paura-cambiamento-vita
END:VEVENT
END:VCALENDAR