BEGIN:VCALENDAR
VERSION:2.0
PRODID:-//185.201.65.222//NONSGML kigkonsult.se iCalcreator 2.20//
CALSCALE:GREGORIAN
METHOD:PUBLISH
X-WR-TIMEZONE:Europe/Rome
BEGIN:VEVENT
UID:event396@ecovillaggi.it
DTSTAMP:20260424T213729Z
CATEGORIES:Eventi Ecovillaggi
DESCRIPTION:Tempo di Vivere: PLAYFIGHT  La lotta-gioco che connette!\nCateg
 oria: Eventi Ecovillaggi\nLink: https://ecovillaggi.it/index.php?option=co
 m_jem&view=event&id=396:playfight-lotta-gioco-connette-connessione-tempo-d
 i-vivere\n
DTSTART;TZID=Europe/Rome:20250506T203000
DTEND;TZID=Europe/Rome:20250506T231500
SUMMARY:Tempo di Vivere: PLAYFIGHT  La lotta-gioco che connette!
URL:https://ecovillaggi.it/index.php?option=com_jem&view=event&id=396:playf
 ight-lotta-gioco-connette-connessione-tempo-di-vivere
END:VEVENT
END:VCALENDAR