BEGIN:VCALENDAR
VERSION:2.0
PRODID:-//185.201.65.222//NONSGML kigkonsult.se iCalcreator 2.20//
CALSCALE:GREGORIAN
METHOD:PUBLISH
X-WR-TIMEZONE:Europe/Rome
BEGIN:VEVENT
UID:event395@ecovillaggi.it
DTSTAMP:20260424T213827Z
CATEGORIES:Eventi Ecovillaggi
DESCRIPTION:Tempo di Vivere e L'Albero della Vita: IO Sono IO Posso La Trib
 ù Evolutiva - Crescere Dentro per Cambiare Fuori\nCategoria: Eventi Ecovil
 laggi\nLink: https://ecovillaggi.it/index.php?option=com_jem&view=event&id
 =395:io-sono-posso-tempo-vivere-albero-vita-tribu-evoluzione-crescere\n
DTSTART;TZID=Europe/Rome:20250501T100000
DTEND;TZID=Europe/Rome:20250504T180000
LOCATION:L'Albero della Vita\, Località Selva di Sopra N.83\,40032 Camugnan
 o
SUMMARY:Tempo di Vivere e L'Albero della Vita: IO Sono IO Posso La Tribù Ev
 olutiva - Crescere Dentro per Cambiare Fuori
URL:https://ecovillaggi.it/index.php?option=com_jem&view=event&id=395:io-so
 no-posso-tempo-vivere-albero-vita-tribu-evoluzione-crescere
END:VEVENT
END:VCALENDAR