BEGIN:VCALENDAR
VERSION:2.0
PRODID:-//185.201.65.222//NONSGML kigkonsult.se iCalcreator 2.20//
CALSCALE:GREGORIAN
METHOD:PUBLISH
X-WR-TIMEZONE:Europe/Rome
BEGIN:VEVENT
UID:event393@ecovillaggi.it
DTSTAMP:20260425T004356Z
CATEGORIES:Eventi Ecovillaggi
DESCRIPTION:Tempo di Vivere e L'Albero della Vita: WEBINAR GRATUITO RETE DI
  VILLAGGI E IL SENTIERO DELL'ANIMA\nCategoria: Eventi Ecovillaggi\nLink: h
 ttps://ecovillaggi.it/index.php?option=com_jem&view=event&id=393:webinar-g
 ratuito-rete-ecovillaggi-sentiero-anima\n
DTSTART;TZID=Europe/Rome:20250321T200000
DTEND;TZID=Europe/Rome:20250321T220000
LOCATION:Ecovillaggio Tempo di Vivere\,Loc. Camera Vecchia di Calenzano\,29
 021 Bettola
SUMMARY:Tempo di Vivere e L'Albero della Vita: WEBINAR GRATUITO RETE DI VIL
 LAGGI E IL SENTIERO DELL'ANIMA
URL:https://ecovillaggi.it/index.php?option=com_jem&view=event&id=393:webin
 ar-gratuito-rete-ecovillaggi-sentiero-anima
END:VEVENT
END:VCALENDAR