BEGIN:VCALENDAR
VERSION:2.0
PRODID:-//185.201.65.222//NONSGML kigkonsult.se iCalcreator 2.20//
CALSCALE:GREGORIAN
METHOD:PUBLISH
X-WR-TIMEZONE:Europe/Rome
BEGIN:VEVENT
UID:event389@ecovillaggi.it
DTSTAMP:20260425T005611Z
CATEGORIES:Eventi Ecovillaggi
DESCRIPTION:ALPE PIANELLO - CONNESSIONE E PURIFICAZIONE CON BETULLA - Ritir
 o 2g\nCategoria: Eventi Ecovillaggi\nLink: https://ecovillaggi.it/index.ph
 p?option=com_jem&view=event&id=389:alpe-pianello-connessione-e-purificazio
 ne-con-betulla-ritiro-2g\n
DTSTART;VALUE=DATE:20250405
DTEND;VALUE=DATE:20250407
SUMMARY:ALPE PIANELLO - CONNESSIONE E PURIFICAZIONE CON BETULLA - Ritiro 2g
URL:https://ecovillaggi.it/index.php?option=com_jem&view=event&id=389:alpe-
 pianello-connessione-e-purificazione-con-betulla-ritiro-2g
END:VEVENT
END:VCALENDAR