BEGIN:VCALENDAR
VERSION:2.0
PRODID:-//185.201.65.222//NONSGML kigkonsult.se iCalcreator 2.20//
CALSCALE:GREGORIAN
METHOD:PUBLISH
X-WR-TIMEZONE:Europe/Rome
BEGIN:VEVENT
UID:event388@ecovillaggi.it
DTSTAMP:20260425T005616Z
CATEGORIES:Eventi Ecovillaggi
DESCRIPTION:Alpe Pianello -CONCERTO - Biagio Accardi - RITÜALE\nCategoria: 
 Eventi Ecovillaggi\nLink: https://ecovillaggi.it/index.php?option=com_jem&
 view=event&id=388:alpe-pianello-concerto-biagio-accardi-ritueale\n
DTSTART;TZID=Europe/Rome:20250412T200000
DTEND;TZID=Europe/Rome:20250412T200000
SUMMARY:Alpe Pianello -CONCERTO - Biagio Accardi - RITÜALE
URL:https://ecovillaggi.it/index.php?option=com_jem&view=event&id=388:alpe-
 pianello-concerto-biagio-accardi-ritueale
END:VEVENT
END:VCALENDAR