BEGIN:VCALENDAR
VERSION:2.0
PRODID:-//185.201.65.222//NONSGML kigkonsult.se iCalcreator 2.20//
CALSCALE:GREGORIAN
METHOD:PUBLISH
X-WR-TIMEZONE:Europe/Rome
BEGIN:VEVENT
UID:event386@ecovillaggi.it
DTSTAMP:20260424T213433Z
CATEGORIES:Eventi Ecovillaggi
DESCRIPTION:Alpe Pianello - RITIRO 3g - Le radici della connessione - 18/22
 Aprile\nCategoria: Eventi Ecovillaggi\nLink: https://ecovillaggi.it/index.
 php?option=com_jem&view=event&id=386:alpe-pianello-pasqua-autentica\n
DTSTART;VALUE=DATE:20250419
DTEND;VALUE=DATE:20250423
SUMMARY:Alpe Pianello - RITIRO 3g - Le radici della connessione - 18/22Apri
 le
URL:https://ecovillaggi.it/index.php?option=com_jem&view=event&id=386:alpe-
 pianello-pasqua-autentica
END:VEVENT
END:VCALENDAR