BEGIN:VCALENDAR
VERSION:2.0
PRODID:-//185.201.65.222//NONSGML kigkonsult.se iCalcreator 2.20//
CALSCALE:GREGORIAN
METHOD:PUBLISH
X-WR-TIMEZONE:Europe/Rome
BEGIN:VEVENT
UID:event384@ecovillaggi.it
DTSTAMP:20260424T213428Z
CATEGORIES:Eventi Ecovillaggi
DESCRIPTION:ALPE PIANELLO - Comunità aperta\nCategoria: Eventi Ecovillaggi
 \nLink: https://ecovillaggi.it/index.php?option=com_jem&view=event&id=384:
 alpe-pianello-comunita-aperta\n
DTSTART;VALUE=DATE:20250505
DTEND;VALUE=DATE:20250531
SUMMARY:ALPE PIANELLO - Comunità aperta
URL:https://ecovillaggi.it/index.php?option=com_jem&view=event&id=384:alpe-
 pianello-comunita-aperta
END:VEVENT
END:VCALENDAR