BEGIN:VCALENDAR
VERSION:2.0
PRODID:-//185.201.65.222//NONSGML kigkonsult.se iCalcreator 2.20//
CALSCALE:GREGORIAN
METHOD:PUBLISH
X-WR-TIMEZONE:Europe/Rome
BEGIN:VEVENT
UID:event383@ecovillaggi.it
DTSTAMP:20260424T213433Z
CATEGORIES:Eventi Ecovillaggi
DESCRIPTION:Alpe Pianello - OPEN WEEK END - OPEN DAY PIÙ LUNGO E RICCO\nCat
 egoria: Eventi Ecovillaggi\nLink: https://ecovillaggi.it/index.php?option=
 com_jem&view=event&id=383:alpe-pianello-open-week-end-open-day-piu-lungo-e
 -ricco\n
DTSTART;VALUE=DATE:20250425
DTEND;VALUE=DATE:20250428
SUMMARY:Alpe Pianello - OPEN WEEK END - OPEN DAY PIÙ LUNGO E RICCO
URL:https://ecovillaggi.it/index.php?option=com_jem&view=event&id=383:alpe-
 pianello-open-week-end-open-day-piu-lungo-e-ricco
END:VEVENT
END:VCALENDAR