BEGIN:VCALENDAR
VERSION:2.0
PRODID:-//185.201.65.222//NONSGML kigkonsult.se iCalcreator 2.20//
CALSCALE:GREGORIAN
METHOD:PUBLISH
X-WR-TIMEZONE:Europe/Rome
BEGIN:VEVENT
UID:event381@ecovillaggi.it
DTSTAMP:20260424T213541Z
CATEGORIES:Eventi Ecovillaggi
DESCRIPTION:ALPE PIANELLO- INIPI - CAPANNA SUDATORIA \nCategoria: Eventi Ec
 ovillaggi\nLink: https://ecovillaggi.it/index.php?option=com_jem&view=even
 t&id=381:alpe-pianello-inipi-capanna-sudatoria\n
DTSTART;VALUE=DATE:20250426
DTEND;VALUE=DATE:20250427
SUMMARY:ALPE PIANELLO- INIPI - CAPANNA SUDATORIA 
URL:https://ecovillaggi.it/index.php?option=com_jem&view=event&id=381:alpe-
 pianello-inipi-capanna-sudatoria
END:VEVENT
END:VCALENDAR