BEGIN:VCALENDAR
VERSION:2.0
PRODID:-//185.201.65.222//NONSGML kigkonsult.se iCalcreator 2.20//
CALSCALE:GREGORIAN
METHOD:PUBLISH
X-WR-TIMEZONE:Europe/Rome
BEGIN:VEVENT
UID:event380@ecovillaggi.it
DTSTAMP:20260425T004830Z
CATEGORIES:Eventi Ecovillaggi
DESCRIPTION:Alpe Pianello - MEDITAZIONE VIPASSANA 1GG\nCategoria: Eventi Ec
 ovillaggi\nLink: https://ecovillaggi.it/index.php?option=com_jem&view=even
 t&id=380:alpe-pianello-meditazione-vipassana-1gg\n
DTSTART;VALUE=DATE:20250406
DTEND;VALUE=DATE:20250407
SUMMARY:Alpe Pianello - MEDITAZIONE VIPASSANA 1GG
URL:https://ecovillaggi.it/index.php?option=com_jem&view=event&id=380:alpe-
 pianello-meditazione-vipassana-1gg
END:VEVENT
END:VCALENDAR