BEGIN:VCALENDAR
VERSION:2.0
PRODID:-//185.201.65.222//NONSGML kigkonsult.se iCalcreator 2.20//
CALSCALE:GREGORIAN
METHOD:PUBLISH
X-WR-TIMEZONE:Europe/Rome
BEGIN:VEVENT
UID:event379@ecovillaggi.it
DTSTAMP:20260425T004631Z
CATEGORIES:Eventi Ecovillaggi
DESCRIPTION:Alpe Pianello - Ritiro meditazione DRUNKEN MONKS\nCategoria: Ev
 enti Ecovillaggi\nLink: https://ecovillaggi.it/index.php?option=com_jem&vi
 ew=event&id=379:alpe-pianello-ritiro-meditazione-drunken-monks\n
DTSTART;VALUE=DATE:20250322
DTEND;VALUE=DATE:20250323
SUMMARY:Alpe Pianello - Ritiro meditazione DRUNKEN MONKS
URL:https://ecovillaggi.it/index.php?option=com_jem&view=event&id=379:alpe-
 pianello-ritiro-meditazione-drunken-monks
END:VEVENT
END:VCALENDAR