BEGIN:VCALENDAR
VERSION:2.0
PRODID:-//185.201.65.222//NONSGML kigkonsult.se iCalcreator 2.20//
CALSCALE:GREGORIAN
METHOD:PUBLISH
X-WR-TIMEZONE:Europe/Rome
BEGIN:VEVENT
UID:event378@ecovillaggi.it
DTSTAMP:20260425T004600Z
CATEGORIES:Eventi Ecovillaggi
DESCRIPTION:ALPE PIANELLO - ITALIANO - Comunità aperta\nCategoria: Eventi E
 covillaggi\nLink: https://ecovillaggi.it/index.php?option=com_jem&view=eve
 nt&id=378:alpe-pianello-italiano-comunita-aperta\n
DTSTART;VALUE=DATE:20250401
DTEND;VALUE=DATE:20250414
SUMMARY:ALPE PIANELLO - ITALIANO - Comunità aperta
URL:https://ecovillaggi.it/index.php?option=com_jem&view=event&id=378:alpe-
 pianello-italiano-comunita-aperta
END:VEVENT
END:VCALENDAR