BEGIN:VCALENDAR
VERSION:2.0
PRODID:-//185.201.65.222//NONSGML kigkonsult.se iCalcreator 2.20//
CALSCALE:GREGORIAN
METHOD:PUBLISH
X-WR-TIMEZONE:Europe/Rome
BEGIN:VEVENT
UID:event376@ecovillaggi.it
DTSTAMP:20260424T230921Z
CATEGORIES:Eventi Ecovillaggi
DESCRIPTION:Tempo di Vivere - Campo per ragazzi -  'Il Gioco della Scoperta
 ' - Luglio 2025\nCategoria: Eventi Ecovillaggi\nLink: https://ecovillaggi.
 it/index.php?option=com_jem&view=event&id=376:campo-ragazzi-luglio-2025-gi
 oco-scoperta\n
DTSTART;TZID=Europe/Rome:20250713T160000
DTEND;TZID=Europe/Rome:20250720T110000
LOCATION:Ecovillaggio Tempo di Vivere\,Loc. Camera Vecchia di Calenzano\,29
 021 Bettola
SUMMARY:Tempo di Vivere - Campo per ragazzi -  'Il Gioco della Scoperta' - 
 Luglio 2025
URL:https://ecovillaggi.it/index.php?option=com_jem&view=event&id=376:campo
 -ragazzi-luglio-2025-gioco-scoperta
END:VEVENT
END:VCALENDAR