BEGIN:VCALENDAR
VERSION:2.0
PRODID:-//185.201.65.222//NONSGML kigkonsult.se iCalcreator 2.20//
CALSCALE:GREGORIAN
METHOD:PUBLISH
X-WR-TIMEZONE:Europe/Rome
BEGIN:VEVENT
UID:event371@ecovillaggi.it
DTSTAMP:20260425T004749Z
CATEGORIES:Eventi Ecovillaggi
DESCRIPTION:Tempo di Vivere: INTENTIONAL PLAYFIGHT WEEKEND\nCategoria: Even
 ti Ecovillaggi\nLink: https://ecovillaggi.it/index.php?option=com_jem&view
 =event&id=371:playfight-intenzionale-intentional-tempo-di-vivere\n
DTSTART;TZID=Europe/Rome:20250321T170000
DTEND;TZID=Europe/Rome:20250323T170000
LOCATION:Ecovillaggio Tempo di Vivere\,Loc. Camera Vecchia di Calenzano\,29
 021 Bettola
SUMMARY:Tempo di Vivere: INTENTIONAL PLAYFIGHT WEEKEND
URL:https://ecovillaggi.it/index.php?option=com_jem&view=event&id=371:playf
 ight-intenzionale-intentional-tempo-di-vivere
END:VEVENT
END:VCALENDAR