BEGIN:VCALENDAR
VERSION:2.0
PRODID:-//185.201.65.222//NONSGML kigkonsult.se iCalcreator 2.20//
CALSCALE:GREGORIAN
METHOD:PUBLISH
X-WR-TIMEZONE:Europe/Rome
BEGIN:VEVENT
UID:event367@ecovillaggi.it
DTSTAMP:20260425T005341Z
CATEGORIES:Eventi Ecovillaggi
DESCRIPTION:Tempo di Vivere: Percorso online IL CORPO\, UNA PORTA DI ACCESS
 O ALLA CONSAPEVOLEZZA INTERIORE\nCategoria: Eventi Ecovillaggi\nLink: http
 s://ecovillaggi.it/index.php?option=com_jem&view=event&id=367:tempo-di-viv
 ere-percorso-online-corpo-ascolto-consapevolezza\n
DTSTART;TZID=Europe/Rome:20250327T203000
DTEND;TZID=Europe/Rome:20250327T223000
LOCATION:Ecovillaggio Tempo di Vivere\,Loc. Camera Vecchia di Calenzano\,29
 021 Bettola
SUMMARY:Tempo di Vivere: Percorso online IL CORPO\, UNA PORTA DI ACCESSO AL
 LA CONSAPEVOLEZZA INTERIORE
URL:https://ecovillaggi.it/index.php?option=com_jem&view=event&id=367:tempo
 -di-vivere-percorso-online-corpo-ascolto-consapevolezza
END:VEVENT
END:VCALENDAR