BEGIN:VCALENDAR
VERSION:2.0
PRODID:-//185.201.65.222//NONSGML kigkonsult.se iCalcreator 2.20//
CALSCALE:GREGORIAN
METHOD:PUBLISH
X-WR-TIMEZONE:Europe/Rome
BEGIN:VEVENT
UID:event356@ecovillaggi.it
DTSTAMP:20260425T040942Z
CATEGORIES:Eventi Ecovillaggi
DESCRIPTION:Tempo di Vivere: Cerchio & Playfight - La gioia della connessio
 ne\nCategoria: Eventi Ecovillaggi\nLink: https://ecovillaggi.it/index.php?
 option=com_jem&view=event&id=356:cerchio-playfight-tempo-di-vivere-gioia-c
 onnessione\n
DTSTART;TZID=Europe/Rome:20250208T100000
DTEND;TZID=Europe/Rome:20250209T180000
LOCATION:Ecovillaggio Tempo di Vivere\,Loc. Camera Vecchia di Calenzano\,29
 021 Bettola
SUMMARY:Tempo di Vivere: Cerchio & Playfight - La gioia della connessione
URL:https://ecovillaggi.it/index.php?option=com_jem&view=event&id=356:cerch
 io-playfight-tempo-di-vivere-gioia-connessione
END:VEVENT
END:VCALENDAR